BEGIN:VCALENDAR
VERSION:2.0
PRODID:-//Tukios.com/
BEGIN:VEVENT
UID:a523cf10-b1aa-4b48-a502-3062341ec544@www.chauvinfuneralhome.com
DTSTAMP:20260424T193358Z
DTSTART:20260502T200000Z
DTEND:20260502T210000Z
SUMMARY:Graveside Service
DESCRIPTION:
URL:https://www.chauvinfuneralhome.com/obituaries/william-washam
LOCATION: 1985 LA-308  Thibodaux LA 70301
GEO:29.7538631;-90.7203937
END:VEVENT
END:VCALENDAR