BEGIN:VCALENDAR
VERSION:2.0
PRODID:-//Tukios.com/
BEGIN:VEVENT
UID:88f763e9-fbd7-46c8-b47a-9266b4bef44d@www.chauvinfuneralhome.com
DTSTAMP:20260424T193026Z
DTSTART:20260502T190000Z
DTEND:20260502T200000Z
SUMMARY:Funeral Service
DESCRIPTION:
URL:https://www.chauvinfuneralhome.com/obituaries/william-washam
LOCATION: 5899 LA-311  Houma LA 70360
GEO:29.5855124;-90.7280256
END:VEVENT
END:VCALENDAR