BEGIN:VCALENDAR
VERSION:2.0
PRODID:-//Tukios.com/
BEGIN:VEVENT
UID:5be99734-a945-4061-9871-753c4f018d38@www.chauvinfuneralhome.com
DTSTAMP:20260424T194059Z
DTSTART:20260502T180000Z
DTEND:20260502T190000Z
SUMMARY:Visitation
DESCRIPTION:
URL:https://www.chauvinfuneralhome.com/obituaries/william-washam
LOCATION: 5899 LA-311  Houma LA 70360
GEO:29.5855124;-90.7280256
END:VEVENT
END:VCALENDAR