BEGIN:VCALENDAR
VERSION:2.0
PRODID:-//Tukios.com/
BEGIN:VEVENT
UID:046455fa-8774-4e36-a81b-2702f9527fc3@www.chauvinfuneralhome.com
DTSTAMP:20260421T193118Z
DTSTART:20260423T173000Z
DTEND:20260423T183000Z
SUMMARY:Burial
DESCRIPTION:
URL:https://www.chauvinfuneralhome.com/obituaries/ricky-neil
LOCATION: 5232 LA-56  Chauvin LA 70344
GEO:29.4623066;-90.5897292
END:VEVENT
END:VCALENDAR