BEGIN:VCALENDAR
VERSION:2.0
PRODID:-//Tukios.com/
BEGIN:VEVENT
UID:232dbb63-dd7b-44aa-a016-558558b63105@www.chauvinfuneralhome.com
DTSTAMP:20260421T192254Z
DTSTART:20260423T163000Z
DTEND:20260423T173000Z
SUMMARY:Mass
DESCRIPTION:
URL:https://www.chauvinfuneralhome.com/obituaries/ricky-neil
LOCATION:St. Joseph Catholic Church 5232 LA-56  Chauvin LA 70344
GEO:29.4623066;-90.5897292
END:VEVENT
END:VCALENDAR