BEGIN:VCALENDAR
VERSION:2.0
PRODID:-//Tukios.com/
BEGIN:VEVENT
UID:f5360318-a9b3-4489-9aa3-8133a07b651d@www.chauvinfuneralhome.com
DTSTAMP:20260421T192748Z
DTSTART:20260423T143000Z
DTEND:20260423T163000Z
SUMMARY:Visitation
DESCRIPTION:
URL:https://www.chauvinfuneralhome.com/obituaries/ricky-neil
LOCATION:St. Joseph Catholic Church 5232 LA-56  Chauvin LA 70344
GEO:29.4623066;-90.5897292
END:VEVENT
END:VCALENDAR