BEGIN:VCALENDAR
VERSION:2.0
PRODID:-//Tukios.com/
BEGIN:VEVENT
UID:8e0e355d-4052-4196-a828-4ae26115beb0@www.chauvinfuneralhome.com
DTSTAMP:20260425T015236Z
DTSTART:20260427T174500Z
DTEND:20260427T181500Z
SUMMARY:Graveside Service
DESCRIPTION:
URL:https://www.chauvinfuneralhome.com/obituaries/odis-lecompte-sr
LOCATION:St. Joseph Catholic Church Cemetery (Chauvin, LA) St. Joseph 
	Church Cemetery 5232 Highway 56 Chauvin LA 70344
GEO:29.4622904;-90.589728
END:VEVENT
END:VCALENDAR