BEGIN:VCALENDAR
VERSION:2.0
PRODID:-//Tukios.com/
BEGIN:VEVENT
UID:14f3548a-59a9-4b28-b078-d8fd548e2c63@www.chauvinfuneralhome.com
DTSTAMP:20260425T015506Z
DTSTART:20260427T170000Z
DTEND:20260427T174500Z
SUMMARY:Mass
DESCRIPTION:
URL:https://www.chauvinfuneralhome.com/obituaries/odis-lecompte-sr
LOCATION:St. Joseph Catholic Church  5232 Highway 56  Chauvin LA 70344
GEO:29.1840597;-90.6393702
END:VEVENT
END:VCALENDAR