BEGIN:VCALENDAR
VERSION:2.0
PRODID:-//Tukios.com/
BEGIN:VEVENT
UID:df774e6a-8625-4439-83f5-9760c9ec311d@www.chauvinfuneralhome.com
DTSTAMP:20260425T014944Z
DTSTART:20260427T140000Z
DTEND:20260427T160000Z
SUMMARY:Public Viewing
DESCRIPTION:
URL:https://www.chauvinfuneralhome.com/obituaries/odis-lecompte-sr
LOCATION:St. Joseph Catholic Church  5232 Highway 56  Chauvin LA 70344
GEO:29.1840597;-90.6393702
END:VEVENT
END:VCALENDAR