BEGIN:VCALENDAR
VERSION:2.0
PRODID:-//Tukios.com/
BEGIN:VEVENT
UID:2df9f283-74b7-4912-a131-cf44baa6fb4d@www.chauvinfuneralhome.com
DTSTAMP:20260421T192331Z
DTSTART:20260424T164500Z
DTEND:20260424T171500Z
SUMMARY:Graveside Service
DESCRIPTION:
URL:https://www.chauvinfuneralhome.com/obituaries/michael-trahan
LOCATION:Bayou Black Cemetery, Houma LA     
GEO:0;0
END:VEVENT
END:VCALENDAR