BEGIN:VCALENDAR
VERSION:2.0
PRODID:-//Tukios.com/
BEGIN:VEVENT
UID:ccaf4171-a042-4ec9-988d-305778881a23@www.chauvinfuneralhome.com
DTSTAMP:20260421T192207Z
DTSTART:20260424T140000Z
DTEND:20260424T160000Z
SUMMARY:Public Viewing
DESCRIPTION:
URL:https://www.chauvinfuneralhome.com/obituaries/michael-trahan
LOCATION:St. Anthony Catholic Church 3897 Bayou Black Dr.  Houma LA 70360
GEO:29.5756643;-90.8106723
END:VEVENT
END:VCALENDAR