BEGIN:VCALENDAR
VERSION:2.0
PRODID:-//Tukios.com/
BEGIN:VEVENT
UID:a7353f04-6018-41c3-b3aa-4af03992cfb7@www.chauvinfuneralhome.com
DTSTAMP:20260420T173725Z
DTSTART:20260422T160000Z
DTEND:20260422T170000Z
SUMMARY:Funeral Service
DESCRIPTION:
URL:https://www.chauvinfuneralhome.com/obituaries/lupe-valdiviez-sr
LOCATION:Chauvin Funeral Home 5899 LA-311  Houma LA 70360
GEO:29.5855124;-90.7280256
END:VEVENT
END:VCALENDAR