BEGIN:VCALENDAR
VERSION:2.0
PRODID:-//Tukios.com/
BEGIN:VEVENT
UID:7e94675e-d5ae-433e-a850-7bb1fc41ad81@www.chauvinfuneralhome.com
DTSTAMP:20260420T172803Z
DTSTART:20260422T140000Z
DTEND:20260422T160000Z
SUMMARY:Visitation
DESCRIPTION:
URL:https://www.chauvinfuneralhome.com/obituaries/lupe-valdiviez-sr
LOCATION:Chauvin Funeral Home 5899 LA-311  Houma LA 70360
GEO:29.5855124;-90.7280256
END:VEVENT
END:VCALENDAR