BEGIN:VCALENDAR
VERSION:2.0
PRODID:-//Tukios.com/
BEGIN:VEVENT
UID:ec0d1b0d-5787-4b59-b18d-0f850fce3fa8@www.chauvinfuneralhome.com
DTSTAMP:20260424T014929Z
DTSTART:20260428T170000Z
DTEND:20260428T173000Z
SUMMARY:Graveside Service
DESCRIPTION:
URL:https://www.chauvinfuneralhome.com/obituaries/jerome-portier
LOCATION:St. Joseph Catholic Church Cemetery (Chauvin, LA) St. Joseph 
	Church Cemetery 5232 Highway 56 Chauvin LA 70344
GEO:29.4622904;-90.589728
END:VEVENT
END:VCALENDAR