BEGIN:VCALENDAR
VERSION:2.0
PRODID:-//Tukios.com/
BEGIN:VEVENT
UID:69c4375b-042c-47b1-a18d-9ea83c632a39@www.chauvinfuneralhome.com
DTSTAMP:20260424T014724Z
DTSTART:20260428T163000Z
DTEND:20260428T173000Z
SUMMARY:Mass
DESCRIPTION:
URL:https://www.chauvinfuneralhome.com/obituaries/jerome-portier
LOCATION:St. Joseph Catholic Church  5232 Highway 56  Chauvin LA 70344
GEO:29.1840597;-90.6393702
END:VEVENT
END:VCALENDAR