BEGIN:VCALENDAR
VERSION:2.0
PRODID:-//Tukios.com/
BEGIN:VEVENT
UID:1d2b059e-fa3b-4db4-87fe-ed5cbf5010be@www.chauvinfuneralhome.com
DTSTAMP:20260424T015654Z
DTSTART:20260428T143000Z
DTEND:20260428T163000Z
SUMMARY:Public Viewing
DESCRIPTION:
URL:https://www.chauvinfuneralhome.com/obituaries/jerome-portier
LOCATION:St. Joseph Catholic Church  5232 Highway 56  Chauvin LA 70344
GEO:29.1840597;-90.6393702
END:VEVENT
END:VCALENDAR