BEGIN:VCALENDAR
VERSION:2.0
PRODID:-//Tukios.com/
BEGIN:VEVENT
UID:c52c6784-e9db-47df-bc05-b19989c85c24@www.chauvinfuneralhome.com
DTSTAMP:20260424T173928Z
DTSTART:20260424T220000Z
DTEND:20260425T010000Z
SUMMARY:Visitation
DESCRIPTION:
URL:https://www.chauvinfuneralhome.com/obituaries/gloria-barker
LOCATION: 5899 LA-311  Houma LA 70360
GEO:29.5855298;-90.7279571
END:VEVENT
END:VCALENDAR