BEGIN:VCALENDAR
VERSION:2.0
PRODID:-//Tukios.com/
BEGIN:VEVENT
UID:c1d56786-8daf-4bed-9592-538bca4aa696@www.chauvinfuneralhome.com
DTSTAMP:20260424T193408Z
DTSTART:20260509T160000Z
DTEND:20260509T170000Z
SUMMARY:Mass of Christian Burial
DESCRIPTION:
URL:https://www.chauvinfuneralhome.com/obituaries/cynthia-williams
LOCATION: 500 Goode St  Houma LA 70360
GEO:29.5947178;-90.7222881
END:VEVENT
END:VCALENDAR