BEGIN:VCALENDAR
VERSION:2.0
PRODID:-//Tukios.com/
BEGIN:VEVENT
UID:c66ed0d4-8bc4-4de5-8015-e3228785632e@www.chauvinfuneralhome.com
DTSTAMP:20260424T193328Z
DTSTART:20260509T150000Z
DTEND:20260509T160000Z
SUMMARY:Visitation
DESCRIPTION:
URL:https://www.chauvinfuneralhome.com/obituaries/cynthia-williams
LOCATION: 500 Goode St  Houma LA 70360
GEO:29.5947178;-90.7222881
END:VEVENT
END:VCALENDAR